BEGIN:VCALENDAR
VERSION:2.0
PRODID:-//CEPLAN - ECPv4.9.13//NONSGML v1.0//EN
CALSCALE:GREGORIAN
METHOD:PUBLISH
X-WR-CALNAME:CEPLAN
X-ORIGINAL-URL:https://www.ceplan.gob.pe
X-WR-CALDESC:Eventos para CEPLAN
BEGIN:VTIMEZONE
TZID:America/Lima
BEGIN:STANDARD
TZOFFSETFROM:-0500
TZOFFSETTO:-0500
TZNAME:-05
DTSTART:20190101T000000
END:STANDARD
END:VTIMEZONE
BEGIN:VEVENT
DTSTART;TZID=America/Lima:20190703T090000
DTEND;TZID=America/Lima:20190703T120000
DTSTAMP:20260420T165637
CREATED:20190703T162658Z
LAST-MODIFIED:20190703T162658Z
UID:223647-1562144400-1562155200@www.ceplan.gob.pe
SUMMARY:Reunión Técnica MIMP
DESCRIPTION:Reunión Técnica para la elaboración del Plan Estratégico Multisectorial de Igualdad de Género. \n
URL:https://www.ceplan.gob.pe/event/reunion-tecnica-mimp/
LOCATION:Aud. Jesús María Alvarado MIMP\, Jr. Camaná 616 piso 6\, Lima\, Lima\, Perú
CATEGORIES:Dir. Coordinación y Planeamiento Estrat.
END:VEVENT
END:VCALENDAR