BEGIN:VCALENDAR
VERSION:2.0
PRODID:-//CEPLAN - ECPv4.9.13//NONSGML v1.0//EN
CALSCALE:GREGORIAN
METHOD:PUBLISH
X-WR-CALNAME:CEPLAN
X-ORIGINAL-URL:https://www.ceplan.gob.pe
X-WR-CALDESC:Eventos para CEPLAN
BEGIN:VTIMEZONE
TZID:America/Lima
BEGIN:STANDARD
TZOFFSETFROM:-0500
TZOFFSETTO:-0500
TZNAME:-05
DTSTART:20170101T000000
END:STANDARD
END:VTIMEZONE
BEGIN:VEVENT
DTSTART;TZID=America/Lima:20170811T080000
DTEND;TZID=America/Lima:20170811T110000
DTSTAMP:20260420T104813
CREATED:20170919T181033Z
LAST-MODIFIED:20171006T170209Z
UID:216634-1502438400-1502449200@www.ceplan.gob.pe
SUMMARY:Sesión Centésima Vigésima Novena del Consejo Directivo del Ceplan
DESCRIPTION:
URL:https://www.ceplan.gob.pe/event/sesion-centesima-vigesima-novena-del-consejo-directivo-del-ceplan/
CATEGORIES:Dirección Ejecutiva
END:VEVENT
END:VCALENDAR