BEGIN:VCALENDAR
VERSION:2.0
PRODID:-//CEPLAN - ECPv4.9.13//NONSGML v1.0//EN
CALSCALE:GREGORIAN
METHOD:PUBLISH
X-WR-CALNAME:CEPLAN
X-ORIGINAL-URL:https://www.ceplan.gob.pe
X-WR-CALDESC:Eventos para CEPLAN
BEGIN:VTIMEZONE
TZID:America/Lima
BEGIN:STANDARD
TZOFFSETFROM:-0500
TZOFFSETTO:-0500
TZNAME:-05
DTSTART:20200101T000000
END:STANDARD
END:VTIMEZONE
BEGIN:VEVENT
DTSTART;TZID=America/Lima:20200511T080000
DTEND;TZID=America/Lima:20200511T170000
DTSTAMP:20260421T214125
CREATED:20200710T013018Z
LAST-MODIFIED:20200710T013018Z
UID:227315-1589184000-1589216400@www.ceplan.gob.pe
SUMMARY:Reunión virtual extraordinaria de la Comunidad de Práctica para los países de América Latina y el Caribe que presentan sus informes nacionales voluntarios (INV)
DESCRIPTION:
URL:https://www.ceplan.gob.pe/event/reunion-virtual-extraordinaria-de-la-comunidad-de-practica-para-los-paises-de-america-latina-y-el-caribe-que-presentan-sus-informes-nacionales-voluntarios-inv/
END:VEVENT
END:VCALENDAR