BEGIN:VCALENDAR
VERSION:2.0
PRODID:-//CEPLAN - ECPv4.9.13//NONSGML v1.0//EN
CALSCALE:GREGORIAN
METHOD:PUBLISH
X-WR-CALNAME:CEPLAN
X-ORIGINAL-URL:https://www.ceplan.gob.pe
X-WR-CALDESC:Eventos para CEPLAN
BEGIN:VTIMEZONE
TZID:America/Lima
BEGIN:STANDARD
TZOFFSETFROM:-0500
TZOFFSETTO:-0500
TZNAME:-05
DTSTART:20200101T000000
END:STANDARD
END:VTIMEZONE
BEGIN:VEVENT
DTSTART;TZID=America/Lima:20200514T080000
DTEND;TZID=America/Lima:20200514T170000
DTSTAMP:20260421T162331
CREATED:20200710T013938Z
LAST-MODIFIED:20200710T013938Z
UID:227321-1589443200-1589475600@www.ceplan.gob.pe
SUMMARY:Reunión sobre la adecuación del Aplicativo CEPLAN V01 a la Pandemia
DESCRIPTION:
URL:https://www.ceplan.gob.pe/event/reunion-sobre-la-adecuacion-del-aplicativo-ceplan-v01-a-la-pandemia/
END:VEVENT
END:VCALENDAR