BEGIN:VCALENDAR
VERSION:2.0
PRODID:-//CEPLAN - ECPv4.9.13//NONSGML v1.0//EN
CALSCALE:GREGORIAN
METHOD:PUBLISH
X-WR-CALNAME:CEPLAN
X-ORIGINAL-URL:https://www.ceplan.gob.pe
X-WR-CALDESC:Eventos para CEPLAN
BEGIN:VTIMEZONE
TZID:America/Lima
BEGIN:STANDARD
TZOFFSETFROM:-0500
TZOFFSETTO:-0500
TZNAME:-05
DTSTART:20200101T000000
END:STANDARD
END:VTIMEZONE
BEGIN:VEVENT
DTSTART;TZID=America/Lima:20200508T080000
DTEND;TZID=America/Lima:20200508T170000
DTSTAMP:20260421T232401
CREATED:20200710T012825Z
LAST-MODIFIED:20200710T012825Z
UID:227313-1588924800-1588957200@www.ceplan.gob.pe
SUMMARY:Reunión del Comité Coordinador del AN Definir agenda y dinámica del Grupo de Trabajo con el nuevo Secretario Ejecutivo
DESCRIPTION:
URL:https://www.ceplan.gob.pe/event/reunion-del-comite-coordinador-del-an-definir-agenda-y-dinamica-del-grupo-de-trabajo-con-el-nuevo-secretario-ejecutivo/
END:VEVENT
END:VCALENDAR