BEGIN:VCALENDAR
VERSION:2.0
PRODID:-//CEPLAN - ECPv4.9.13//NONSGML v1.0//EN
CALSCALE:GREGORIAN
METHOD:PUBLISH
X-WR-CALNAME:CEPLAN
X-ORIGINAL-URL:https://www.ceplan.gob.pe
X-WR-CALDESC:Eventos para CEPLAN
BEGIN:VTIMEZONE
TZID:America/Lima
BEGIN:STANDARD
TZOFFSETFROM:-0500
TZOFFSETTO:-0500
TZNAME:-05
DTSTART:20200101T000000
END:STANDARD
END:VTIMEZONE
BEGIN:VEVENT
DTSTART;TZID=America/Lima:20200506T080000
DTEND;TZID=America/Lima:20200506T170000
DTSTAMP:20260422T042146
CREATED:20200710T001540Z
LAST-MODIFIED:20200710T001540Z
UID:227306-1588752000-1588784400@www.ceplan.gob.pe
SUMMARY:Reunión de coordinación para el proceso preparatorio de los informes nacionales voluntarios
DESCRIPTION:
URL:https://www.ceplan.gob.pe/event/reunion-de-coordinacion-para-el-proceso-preparatorio-de-los-informes-nacionales-voluntarios/
END:VEVENT
END:VCALENDAR