BEGIN:VCALENDAR
VERSION:2.0
PRODID:-//CEPLAN - ECPv4.9.13//NONSGML v1.0//EN
CALSCALE:GREGORIAN
METHOD:PUBLISH
X-WR-CALNAME:CEPLAN
X-ORIGINAL-URL:https://www.ceplan.gob.pe
X-WR-CALDESC:Eventos para CEPLAN
BEGIN:VTIMEZONE
TZID:America/Lima
BEGIN:STANDARD
TZOFFSETFROM:-0500
TZOFFSETTO:-0500
TZNAME:-05
DTSTART:20200101T000000
END:STANDARD
END:VTIMEZONE
BEGIN:VEVENT
DTSTART;TZID=America/Lima:20200507T080000
DTEND;TZID=America/Lima:20200507T170000
DTSTAMP:20260422T022758
CREATED:20200710T012741Z
LAST-MODIFIED:20200710T012741Z
UID:227311-1588838400-1588870800@www.ceplan.gob.pe
SUMMARY:Presentación de la Plataforma Perú 2030 y actividades en el marco de la presentación del VNR
DESCRIPTION:
URL:https://www.ceplan.gob.pe/event/presentacion-de-la-plataforma-peru-2030-y-actividades-en-el-marco-de-la-presentacion-del-vnr/
END:VEVENT
END:VCALENDAR