BEGIN:VCALENDAR
VERSION:2.0
PRODID:-//CEPLAN - ECPv4.9.13//NONSGML v1.0//EN
CALSCALE:GREGORIAN
METHOD:PUBLISH
X-WR-CALNAME:CEPLAN
X-ORIGINAL-URL:https://www.ceplan.gob.pe
X-WR-CALDESC:Eventos para CEPLAN
BEGIN:VTIMEZONE
TZID:America/Lima
BEGIN:STANDARD
TZOFFSETFROM:-0500
TZOFFSETTO:-0500
TZNAME:-05
DTSTART:20200101T000000
END:STANDARD
END:VTIMEZONE
BEGIN:VEVENT
DTSTART;TZID=America/Lima:20200501T080000
DTEND;TZID=America/Lima:20200501T170000
DTSTAMP:20260422T072351
CREATED:20200710T001243Z
LAST-MODIFIED:20200710T001243Z
UID:227302-1588320000-1588352400@www.ceplan.gob.pe
SUMMARY:Diálogo sobre exigencias tanto en el ámbito social como en el económico\, que nos presenta esta pandemia.
DESCRIPTION:
URL:https://www.ceplan.gob.pe/event/dialogo-sobre-exigencias-tanto-en-el-ambito-social-como-en-el-economico-que-nos-presenta-esta-pandemia/
END:VEVENT
END:VCALENDAR